BEGIN:VCALENDAR
VERSION:2.0
CALSCALE:GREGORIAN
PRODID:-//Diputació de Barcelona//DibaCMS//EN
BEGIN:VEVENT
UID:25604
DTSTAMP:20260422T172210
DTSTART:20230909T113000
DTEND:20230929T200000
SUMMARY:Exposició "DAdAAaa" de Jorge Márquez Moreno
LOCATION: Corredossos de Baix, 9-11 (antic 1) 8140 Caldes de Montbui
METHOD:PUBLISH
X-WR-CALNAME:caldesm@caldesdemontbui.cat
X-WR-TIMEZONE:Europe/Madrid
DESCRIPTION:El collage inunda l’Altell del Centru amb “DAdAAaa” de Jorge Márquez Moreno

Horari: de dimarts a diumenge d'11 a 14 h i de 16 a 20 h

URI:https://www.caldesdemontbui.cat/actualitat/agenda/exposicio-dadaaaa-de-jorge-marquez-moreno.html
CLASS:PUBLIC
END:VEVENT
END:VCALENDAR
