BEGIN:VCALENDAR
VERSION:2.0
CALSCALE:GREGORIAN
PRODID:-//Diputació de Barcelona//DibaCMS//EN
BEGIN:VEVENT
UID:25603
DTSTAMP:20260423T075220
DTSTART:20230908T193000
DTEND:20230908T210000
SUMMARY:Inauguració de l'exposició "DAdAAaa" de Jorge Márquez Moreno
LOCATION:Corredossos de Baix, 9-11 08140 Caldes de Montbui
METHOD:PUBLISH
X-WR-CALNAME:caldesm@caldesdemontbui.cat
X-WR-TIMEZONE:Europe/Madrid
DESCRIPTION:El collage inunda l’Altell del Centru amb “DAdAAaa” de Jorge Márquez Moreno

Durant la inauguració, l’artista oferirà una visita guiada per la seva obra exposada. Així mateix, totes aquelles persones que visitin l’exposició podran participar en la creació d’un collage col·laboratiu que s’anirà transformant fins que s’arribi al final de l’exposició, integrant-se així, en una obra més.

URI:https://www.caldesdemontbui.cat/actualitat/agenda/inauguracio-de-lexposicio-dadaaaa-de-jorge-marquez-moreno.html
CLASS:PUBLIC
END:VEVENT
END:VCALENDAR
