BEGIN:VCALENDAR
VERSION:2.0
CALSCALE:GREGORIAN
PRODID:-//Diputació de Barcelona//DibaCMS//EN
BEGIN:VEVENT
UID:25601
DTSTAMP:20260423T132043
DTSTART:20230908T170000
DTEND:20230908T210000
SUMMARY:Donació de sang
LOCATION:C. Mestre Gregori Montserrat, 4 08140 Caldes de Montbui
METHOD:PUBLISH
X-WR-CALNAME:caldesm@caldesdemontbui.cat
X-WR-TIMEZONE:Europe/Madrid
DESCRIPTION:Donació de sang i plasma: "Toca donar, toca rebre vida". 

URI:https://www.caldesdemontbui.cat/actualitat/agenda/25601-donacio-de-sang.html
CLASS:PUBLIC
END:VEVENT
END:VCALENDAR
