BEGIN:VCALENDAR
VERSION:2.0
CALSCALE:GREGORIAN
PRODID:-//Diputació de Barcelona//DibaCMS//EN
BEGIN:VEVENT
UID:25597
DTSTAMP:20260422T223007
DTSTART:20230911T110000
DTEND:20230911T130000
SUMMARY:Acte institucional - Diada Nacional de Catalunya
LOCATION:
METHOD:PUBLISH
X-WR-CALNAME:caldesm@caldesdemontbui.cat
X-WR-TIMEZONE:Europe/Madrid
DESCRIPTION:Pilar de la senyera i ofrenes florals de l’Ajuntament i de la ciutadania

Col·laboren: Castellers de Caldes de Montbui, Corals de Caldes i altres entitats locals

URI:https://www.caldesdemontbui.cat/actualitat/agenda/acte-institucional-diada-nacional-de-catalunya.html
CLASS:PUBLIC
END:VEVENT
END:VCALENDAR
