BEGIN:VCALENDAR
VERSION:2.0
CALSCALE:GREGORIAN
PRODID:-//Diputació de Barcelona//DibaCMS//EN
BEGIN:VEVENT
UID:25596
DTSTAMP:20260423T155359
DTSTART:20230910T213000
DTEND:20230910T233000
SUMMARY:Ballada de sardanes - Diada Nacional de Catalunya
LOCATION:
METHOD:PUBLISH
X-WR-CALNAME:caldesm@caldesdemontbui.cat
X-WR-TIMEZONE:Europe/Madrid
DESCRIPTION:Ballada de sardanes amb la Cobla Ciutat de Terrassa

URI:https://www.caldesdemontbui.cat/actualitat/agenda/ballada-de-sardanes-diada-nacional-de-catalunya.html
CLASS:PUBLIC
END:VEVENT
END:VCALENDAR
