BEGIN:VCALENDAR
VERSION:2.0
CALSCALE:GREGORIAN
PRODID:-//Diputació de Barcelona//DibaCMS//EN
BEGIN:VEVENT
UID:25595
DTSTAMP:20260422T185735
DTSTART:20230910T210000
DTEND:20230910T230000
SUMMARY:Marxa de torxes per la independència
LOCATION:
METHOD:PUBLISH
X-WR-CALNAME:caldesm@caldesdemontbui.cat
X-WR-TIMEZONE:Europe/Madrid
DESCRIPTION:Recorregut: pl. Catalunya, av. Pi i Margall, c. Asensi Vega, pl. de l’Església, c. del Forn, pl. de la Font del Lleó, c. Barcelona, pl. de l’U d’octubre

URI:https://www.caldesdemontbui.cat/actualitat/agenda/marxa-de-torxes-per-la-independencia.html
CLASS:PUBLIC
END:VEVENT
END:VCALENDAR
