BEGIN:VCALENDAR
VERSION:2.0
CALSCALE:GREGORIAN
PRODID:-//Diputació de Barcelona//DibaCMS//EN
BEGIN:VEVENT
UID:25594
DTSTAMP:20260422T153148
DTSTART:20230910T120000
DTEND:20230910T140000
SUMMARY:Actuació castellera - Diada Nacional de Catalunya
LOCATION:Plaça de la Font del Lleó 
METHOD:PUBLISH
X-WR-CALNAME:caldesm@caldesdemontbui.cat
X-WR-TIMEZONE:Europe/Madrid
DESCRIPTION:A càrrec de les colles dels Castellers de Caldes de Montbui i dels Castellers de Mollet

URI:https://www.caldesdemontbui.cat/actualitat/agenda/actuacio-castellera-diada-nacional-de-catalunya.html
CLASS:PUBLIC
END:VEVENT
END:VCALENDAR
