BEGIN:VCALENDAR
VERSION:2.0
CALSCALE:GREGORIAN
PRODID:-//Diputació de Barcelona//DibaCMS//EN
BEGIN:VEVENT
UID:25593
DTSTAMP:20260423T023710
DTSTART:20230909T100000
DTEND:20230909T140000
SUMMARY:V Torneig de Touch “Onze de Setembre”
LOCATION:Zona Esportiva Les Cremades 08140 Caldes de Montbui
METHOD:PUBLISH
X-WR-CALNAME:caldesm@caldesdemontbui.cat
X-WR-TIMEZONE:Europe/Madrid
DESCRIPTION:
URI:https://www.caldesdemontbui.cat/actualitat/agenda/v-torneig-de-touch-onze-de-setembre.html
CLASS:PUBLIC
END:VEVENT
END:VCALENDAR
