BEGIN:VCALENDAR
VERSION:2.0
CALSCALE:GREGORIAN
PRODID:-//Diputació de Barcelona//DibaCMS//EN
BEGIN:VEVENT
UID:25588
DTSTAMP:20260422T185811
DTSTART:20230918T173000
DTEND:20230918T190000
SUMMARY:Conversem sobre el dol 
LOCATION:Santa Teresa, 3-5 08140 Caldes de Montbui
METHOD:PUBLISH
X-WR-CALNAME:caldesm@caldesdemontbui.cat
X-WR-TIMEZONE:Europe/Madrid
DESCRIPTION:
URI:https://www.caldesdemontbui.cat/actualitat/agenda/conversem-sobre-el-dol-.html
CLASS:PUBLIC
END:VEVENT
END:VCALENDAR
