BEGIN:VCALENDAR
VERSION:2.0
CALSCALE:GREGORIAN
PRODID:-//Diputació de Barcelona//DibaCMS//EN
BEGIN:VEVENT
UID:25587
DTSTAMP:20260423T023958
DTSTART:20230915T180000
DTEND:20230915T190000
SUMMARY:Presentació del llibre "Creix en pau" de Gisela Roca
LOCATION:Santa Teresa, 3-5 08140 Caldes de Montbui
METHOD:PUBLISH
X-WR-CALNAME:caldesm@caldesdemontbui.cat
X-WR-TIMEZONE:Europe/Madrid
DESCRIPTION:
URI:https://www.caldesdemontbui.cat/actualitat/agenda/presentacio-del-llibre-creix-en-pau-de-gisela-roca.html
CLASS:PUBLIC
END:VEVENT
END:VCALENDAR
