BEGIN:VCALENDAR
VERSION:2.0
CALSCALE:GREGORIAN
PRODID:-//Diputació de Barcelona//DibaCMS//EN
BEGIN:VEVENT
UID:25586
DTSTAMP:20260422T173123
DTSTART:20230907T180000
DTEND:20230907T193000
SUMMARY:Bibliolab: taller "Punxa, entinta i estampa"
LOCATION:Santa Teresa, 3-5 08140 Caldes de Montbui
METHOD:PUBLISH
X-WR-CALNAME:caldesm@caldesdemontbui.cat
X-WR-TIMEZONE:Europe/Madrid
DESCRIPTION:Al nou Bibliolab viatjarem a través de la història de l'art amb el taller "Punxa, entinta i estampa" i descobrirem el món del gravat en relleu

A càrrec de Catàrtic

Edat recomanada: de 6 a 11 anys

URI:https://www.caldesdemontbui.cat/actualitat/agenda/bibliolab-taller-punxa-entinta-i-estampa.html
CLASS:PUBLIC
END:VEVENT
END:VCALENDAR
