BEGIN:VCALENDAR
VERSION:2.0
CALSCALE:GREGORIAN
PRODID:-//Diputació de Barcelona//DibaCMS//EN
BEGIN:VEVENT
UID:25585
DTSTAMP:20260423T011830
DTSTART:20230831T180000
DTEND:20230831T190000
SUMMARY:Dijous de conte: "L'enemic" i "Pastís per a enemics"
LOCATION:Santa Teresa, 3-5 08140 Caldes de Montbui
METHOD:PUBLISH
X-WR-CALNAME:caldesm@caldesdemontbui.cat
X-WR-TIMEZONE:Europe/Madrid
DESCRIPTION:Dijous de conte. Embarquem-nos en un viatge ple d'històries amb "L'enemic" i "Pastís per a enemics". Amb aquests contes, desmuntem estereotips i prejudicis

A càrrec de l'Escola de Cultura de Pau

Edat recomanada: A partir de 6 anys

URI:https://www.caldesdemontbui.cat/actualitat/agenda/dijous-de-conte-lenemic-i-pastis-per-a-enemics.html
CLASS:PUBLIC
END:VEVENT
END:VCALENDAR
