BEGIN:VCALENDAR
VERSION:2.0
CALSCALE:GREGORIAN
PRODID:-//Diputació de Barcelona//DibaCMS//EN
BEGIN:VEVENT
UID:25582
DTSTAMP:20260422T205258
DTSTART:20230829T000000
DTEND:20230903T000000
SUMMARY:12è Torneig Històrics de Futbol del Vallès Oriental
LOCATION:Zona Esportiva Les Cremades 08140 Caldes de Montbui
METHOD:PUBLISH
X-WR-CALNAME:caldesm@caldesdemontbui.cat
X-WR-TIMEZONE:Europe/Madrid
DESCRIPTION:Del 29 d’agost al 3 de setembre els clubs de futbol de la comarca de 75 anys o més d’antiguitat disputaran la 12a edició del Torneig d’Històrics de Futbol, una competició organitzada pel Consell Comarcal que enguany té Caldes com a seu principal

URI:https://www.caldesdemontbui.cat/actualitat/agenda/12e-torneig-historics-de-futbol-del-valles-oriental.html
CLASS:PUBLIC
END:VEVENT
END:VCALENDAR
