BEGIN:VCALENDAR
VERSION:2.0
CALSCALE:GREGORIAN
PRODID:-//Diputació de Barcelona//DibaCMS//EN
BEGIN:VEVENT
UID:25575
DTSTAMP:20260423T041755
DTSTART:20230917T100000
DTEND:20230917T140000
SUMMARY:Fira d’antiquaris i brocanters del mes de setembre
LOCATION:
METHOD:PUBLISH
X-WR-CALNAME:caldesm@caldesdemontbui.cat
X-WR-TIMEZONE:Europe/Madrid
DESCRIPTION:
URI:https://www.caldesdemontbui.cat/actualitat/agenda/25575-fira-dantiquaris-i-brocanters-del-mes-de-setembre.html
CLASS:PUBLIC
END:VEVENT
END:VCALENDAR
