BEGIN:VCALENDAR
VERSION:2.0
CALSCALE:GREGORIAN
PRODID:-//Diputació de Barcelona//DibaCMS//EN
BEGIN:VEVENT
UID:25569
DTSTAMP:20260422T222415
DTSTART:20230806T110000
DTEND:20230806T140000
SUMMARY:Festa de barri de Can Valls-Torre Negrell 
LOCATION:
METHOD:PUBLISH
X-WR-CALNAME:caldesm@caldesdemontbui.cat
X-WR-TIMEZONE:Europe/Madrid
DESCRIPTION:
URI:https://www.caldesdemontbui.cat/actualitat/agenda/festa-de-barri-de-can-valls-torre-negrell-.html
CLASS:PUBLIC
END:VEVENT
END:VCALENDAR
