BEGIN:VCALENDAR
VERSION:2.0
CALSCALE:GREGORIAN
PRODID:-//Diputació de Barcelona//DibaCMS//EN
BEGIN:VEVENT
UID:25568
DTSTAMP:20260422T185304
DTSTART:20230805T110000
DTEND:20230805T235900
SUMMARY:Festa de barri de Can Valls-Torre Negrell
LOCATION:
METHOD:PUBLISH
X-WR-CALNAME:caldesm@caldesdemontbui.cat
X-WR-TIMEZONE:Europe/Madrid
DESCRIPTION:
URI:https://www.caldesdemontbui.cat/actualitat/agenda/25568-festa-de-barri-de-can-valls-torre-negrell.html
CLASS:PUBLIC
END:VEVENT
END:VCALENDAR
