BEGIN:VCALENDAR
VERSION:2.0
CALSCALE:GREGORIAN
PRODID:-//Diputació de Barcelona//DibaCMS//EN
BEGIN:VEVENT
UID:25555
DTSTAMP:20260422T191656
DTSTART:20230801T080000
DTEND:20230801T130000
SUMMARY:La deixalleria mòbil s’instal•larà el dimarts 1 d'agost de 8 a 13 h 
LOCATION:
METHOD:PUBLISH
X-WR-CALNAME:caldesm@caldesdemontbui.cat
X-WR-TIMEZONE:Europe/Madrid
DESCRIPTION:
URI:https://www.caldesdemontbui.cat/actualitat/agenda/25555-la-deixalleria-mobil-sinstallara-el-dimarts-1-dagost-de-8-a-13-h-.html
CLASS:PUBLIC
END:VEVENT
END:VCALENDAR
