BEGIN:VCALENDAR
VERSION:2.0
CALSCALE:GREGORIAN
PRODID:-//Diputació de Barcelona//DibaCMS//EN
BEGIN:VEVENT
UID:25546
DTSTAMP:20260422T184025
DTSTART:20230722T210000
DTEND:20230722T210000
SUMMARY:Festa de barri dels Saulons- Karaoke popular
LOCATION:
METHOD:PUBLISH
X-WR-CALNAME:caldesm@caldesdemontbui.cat
X-WR-TIMEZONE:Europe/Madrid
DESCRIPTION:
URI:https://www.caldesdemontbui.cat/actualitat/agenda/festa-de-barri-dels-saulons-karaoke-popular.html
CLASS:PUBLIC
END:VEVENT
END:VCALENDAR
