BEGIN:VCALENDAR
VERSION:2.0
CALSCALE:GREGORIAN
PRODID:-//Diputació de Barcelona//DibaCMS//EN
BEGIN:VEVENT
UID:25545
DTSTAMP:20260422T185512
DTSTART:20230723T170000
DTEND:20230723T170000
SUMMARY:Festa de barri dels Saulons- Jocs tradicionals
LOCATION:
METHOD:PUBLISH
X-WR-CALNAME:caldesm@caldesdemontbui.cat
X-WR-TIMEZONE:Europe/Madrid
DESCRIPTION:
URI:https://www.caldesdemontbui.cat/actualitat/agenda/festa-de-barri-dels-saulons-jocs-tradicionals.html
CLASS:PUBLIC
END:VEVENT
END:VCALENDAR
