BEGIN:VCALENDAR
VERSION:2.0
CALSCALE:GREGORIAN
PRODID:-//Diputació de Barcelona//DibaCMS//EN
BEGIN:VEVENT
UID:25544
DTSTAMP:20260423T080057
DTSTART:20230722T100000
DTEND:20230722T130000
SUMMARY:Festa de barri dels Saulons- Gimcana
LOCATION:
METHOD:PUBLISH
X-WR-CALNAME:caldesm@caldesdemontbui.cat
X-WR-TIMEZONE:Europe/Madrid
DESCRIPTION:
URI:https://www.caldesdemontbui.cat/actualitat/agenda/festa-de-barri-dels-saulons-gimcana.html
CLASS:PUBLIC
END:VEVENT
END:VCALENDAR
