BEGIN:VCALENDAR
VERSION:2.0
CALSCALE:GREGORIAN
PRODID:-//Diputació de Barcelona//DibaCMS//EN
BEGIN:VEVENT
UID:25537
DTSTAMP:20260422T233337
DTSTART:20230714T220000
DTEND:20230714T220000
SUMMARY:Projeccions a la fresca " Gel i Nòmades a l'Àrtic Rus" de Rafa Vadillo
LOCATION:
METHOD:PUBLISH
X-WR-CALNAME:caldesm@caldesdemontbui.cat
X-WR-TIMEZONE:Europe/Madrid
DESCRIPTION:
URI:https://www.caldesdemontbui.cat/actualitat/agenda/projeccions-a-la-fresca--gel-i-nomades-a-lartic-rus-de-rafa-vadillo.html
CLASS:PUBLIC
END:VEVENT
END:VCALENDAR
