BEGIN:VCALENDAR
VERSION:2.0
CALSCALE:GREGORIAN
PRODID:-//Diputació de Barcelona//DibaCMS//EN
BEGIN:VEVENT
UID:25536
DTSTAMP:20260422T191546
DTSTART:20230722T193000
DTEND:20230722T193000
SUMMARY:Festa del Barri del Bugarai 
LOCATION:
METHOD:PUBLISH
X-WR-CALNAME:caldesm@caldesdemontbui.cat
X-WR-TIMEZONE:Europe/Madrid
DESCRIPTION:
URI:https://www.caldesdemontbui.cat/actualitat/agenda/festa-del-barri-del-bugarai-.html
CLASS:PUBLIC
END:VEVENT
END:VCALENDAR
