BEGIN:VCALENDAR
VERSION:2.0
CALSCALE:GREGORIAN
PRODID:-//Diputació de Barcelona//DibaCMS//EN
BEGIN:VEVENT
UID:25535
DTSTAMP:20260423T200641
DTSTART:20230721T190000
DTEND:20230721T190000
SUMMARY:Festa del Barri del Bugarai
LOCATION:
METHOD:PUBLISH
X-WR-CALNAME:caldesm@caldesdemontbui.cat
X-WR-TIMEZONE:Europe/Madrid
DESCRIPTION:
URI:https://www.caldesdemontbui.cat/actualitat/agenda/25535-festa-del-barri-del-bugarai.html
CLASS:PUBLIC
END:VEVENT
END:VCALENDAR
