BEGIN:VCALENDAR
VERSION:2.0
CALSCALE:GREGORIAN
PRODID:-//Diputació de Barcelona//DibaCMS//EN
BEGIN:VEVENT
UID:25529
DTSTAMP:20260423T025927
DTSTART:20230715T190000
DTEND:20230715T190000
SUMMARY:Concert de música DJembe 
LOCATION:
METHOD:PUBLISH
X-WR-CALNAME:caldesm@caldesdemontbui.cat
X-WR-TIMEZONE:Europe/Madrid
DESCRIPTION:
URI:https://www.caldesdemontbui.cat/actualitat/agenda/concert-de-musica-djembe-.html
CLASS:PUBLIC
END:VEVENT
END:VCALENDAR
