BEGIN:VCALENDAR
VERSION:2.0
CALSCALE:GREGORIAN
PRODID:-//Diputació de Barcelona//DibaCMS//EN
BEGIN:VEVENT
UID:25518
DTSTAMP:20260423T000817
DTSTART:20230725T153000
DTEND:20230725T213000
SUMMARY:Nervi Jove 2023: sortida aquàtica
LOCATION:
METHOD:PUBLISH
X-WR-CALNAME:caldesm@caldesdemontbui.cat
X-WR-TIMEZONE:Europe/Madrid
DESCRIPTION:
URI:https://www.caldesdemontbui.cat/actualitat/agenda/nervi-jove-2023-sortida-aquatica.html
CLASS:PUBLIC
END:VEVENT
END:VCALENDAR
