BEGIN:VCALENDAR
VERSION:2.0
CALSCALE:GREGORIAN
PRODID:-//Diputació de Barcelona//DibaCMS//EN
BEGIN:VEVENT
UID:25517
DTSTAMP:20260422T222332
DTSTART:20230721T190000
DTEND:20230721T210000
SUMMARY:Nervi Jove 2023: Holi Festival 
LOCATION:
METHOD:PUBLISH
X-WR-CALNAME:caldesm@caldesdemontbui.cat
X-WR-TIMEZONE:Europe/Madrid
DESCRIPTION:
URI:https://www.caldesdemontbui.cat/actualitat/agenda/nervi-jove-2023-holi-festival-.html
CLASS:PUBLIC
END:VEVENT
END:VCALENDAR
