BEGIN:VCALENDAR
VERSION:2.0
CALSCALE:GREGORIAN
PRODID:-//Diputació de Barcelona//DibaCMS//EN
BEGIN:VEVENT
UID:25516
DTSTAMP:20260422T184135
DTSTART:20230726T180000
DTEND:20230726T200000
SUMMARY:Nervi Jove: Taller de rebosteria 
LOCATION:Llobet Vall·llosera 18 08140 Caldes de Montbui
METHOD:PUBLISH
X-WR-CALNAME:caldesm@caldesdemontbui.cat
X-WR-TIMEZONE:Europe/Madrid
DESCRIPTION:
URI:https://www.caldesdemontbui.cat/actualitat/agenda/nervi-jove-taller-de-rebosteria-.html
CLASS:PUBLIC
END:VEVENT
END:VCALENDAR
