BEGIN:VCALENDAR
VERSION:2.0
CALSCALE:GREGORIAN
PRODID:-//Diputació de Barcelona//DibaCMS//EN
BEGIN:VEVENT
UID:25515
DTSTAMP:20260422T222437
DTSTART:20230719T180000
DTEND:20230719T200000
SUMMARY:Nervi Jove 2023: Taller de rebosteria
LOCATION:Llobet Vall·llosera 18 08140 Caldes de Montbui
METHOD:PUBLISH
X-WR-CALNAME:caldesm@caldesdemontbui.cat
X-WR-TIMEZONE:Europe/Madrid
DESCRIPTION:
URI:https://www.caldesdemontbui.cat/actualitat/agenda/nervi-jove-2023-taller-de-rebosteria.html
CLASS:PUBLIC
END:VEVENT
END:VCALENDAR
