BEGIN:VCALENDAR
VERSION:2.0
CALSCALE:GREGORIAN
PRODID:-//Diputació de Barcelona//DibaCMS//EN
BEGIN:VEVENT
UID:25513
DTSTAMP:20260422T185201
DTSTART:20230716T080000
DTEND:20230716T140000
SUMMARY:Nervi Jove 2023: Torneig de futbol 7
LOCATION:Zona Esportiva Les Cremades 08140 Caldes de Montbui
METHOD:PUBLISH
X-WR-CALNAME:caldesm@caldesdemontbui.cat
X-WR-TIMEZONE:Europe/Madrid
DESCRIPTION:
URI:https://www.caldesdemontbui.cat/actualitat/agenda/nervi-jove-2023-torneig-de-futbol-7.html
CLASS:PUBLIC
END:VEVENT
END:VCALENDAR
