BEGIN:VCALENDAR
VERSION:2.0
CALSCALE:GREGORIAN
PRODID:-//Diputació de Barcelona//DibaCMS//EN
BEGIN:VEVENT
UID:25512
DTSTAMP:20260423T095223
DTSTART:20230720T110000
DTEND:20230720T110000
SUMMARY:Nervi Jove 2023: Cuina sense pares 
LOCATION:C. de Font i Boet, 4 08140 Caldes de Montbui
METHOD:PUBLISH
X-WR-CALNAME:caldesm@caldesdemontbui.cat
X-WR-TIMEZONE:Europe/Madrid
DESCRIPTION:
URI:https://www.caldesdemontbui.cat/actualitat/agenda/nervi-jove-2023-cuina-sense-pares-.html
CLASS:PUBLIC
END:VEVENT
END:VCALENDAR
