BEGIN:VCALENDAR
VERSION:2.0
CALSCALE:GREGORIAN
PRODID:-//Diputació de Barcelona//DibaCMS//EN
BEGIN:VEVENT
UID:25505
DTSTAMP:20260423T063047
DTSTART:20230706T183000
DTEND:20230706T183000
SUMMARY:Lliurament de premis de la Via del Pintxo 2023
LOCATION:
METHOD:PUBLISH
X-WR-CALNAME:caldesm@caldesdemontbui.cat
X-WR-TIMEZONE:Europe/Madrid
DESCRIPTION:
URI:https://www.caldesdemontbui.cat/actualitat/agenda/lliurament-de-premis-de-la-via-del-pintxo-2023.html
CLASS:PUBLIC
END:VEVENT
END:VCALENDAR
