BEGIN:VCALENDAR
VERSION:2.0
CALSCALE:GREGORIAN
PRODID:-//Diputació de Barcelona//DibaCMS//EN
BEGIN:VEVENT
UID:25498
DTSTAMP:20260423T044304
DTSTART:20230701T180000
DTEND:20230701T230000
SUMMARY:Festa de Barri de la Bolera 2023
LOCATION:
METHOD:PUBLISH
X-WR-CALNAME:caldesm@caldesdemontbui.cat
X-WR-TIMEZONE:Europe/Madrid
DESCRIPTION:
URI:https://www.caldesdemontbui.cat/actualitat/agenda/festa-de-barri-de-la-bolera-2023.html
CLASS:PUBLIC
END:VEVENT
END:VCALENDAR
