BEGIN:VCALENDAR
VERSION:2.0
CALSCALE:GREGORIAN
PRODID:-//Diputació de Barcelona//DibaCMS//EN
BEGIN:VEVENT
UID:25495
DTSTAMP:20260423T101925
DTSTART:20230709T030000
DTEND:20230709T030000
SUMMARY:Escaldàrium 2023: PD Lo Puto Cat, La Nostra Festa Tour 2023
LOCATION:
METHOD:PUBLISH
X-WR-CALNAME:caldesm@caldesdemontbui.cat
X-WR-TIMEZONE:Europe/Madrid
DESCRIPTION:
URI:https://www.caldesdemontbui.cat/actualitat/agenda/escaldarium-2023-pd-lo-puto-cat-la-nostra-festa-tour-2023.html
CLASS:PUBLIC
END:VEVENT
END:VCALENDAR
