BEGIN:VCALENDAR
VERSION:2.0
CALSCALE:GREGORIAN
PRODID:-//Diputació de Barcelona//DibaCMS//EN
BEGIN:VEVENT
UID:25492
DTSTAMP:20260422T220039
DTSTART:20230708T235900
DTEND:20230708T235900
SUMMARY:Escaldàrium 2023: Escaldàrium, la Festa del Foc i l'Aigua
LOCATION:
METHOD:PUBLISH
X-WR-CALNAME:caldesm@caldesdemontbui.cat
X-WR-TIMEZONE:Europe/Madrid
DESCRIPTION:
URI:https://www.caldesdemontbui.cat/actualitat/agenda/escaldarium-2023-escaldarium-la-festa-del-foc-i-laigua.html
CLASS:PUBLIC
END:VEVENT
END:VCALENDAR
