BEGIN:VCALENDAR
VERSION:2.0
CALSCALE:GREGORIAN
PRODID:-//Diputació de Barcelona//DibaCMS//EN
BEGIN:VEVENT
UID:25490
DTSTAMP:20260423T101915
DTSTART:20230708T190000
DTEND:20230708T190000
SUMMARY:Escaldàrium 2023: Obertura del Sopàrium 
LOCATION:
METHOD:PUBLISH
X-WR-CALNAME:caldesm@caldesdemontbui.cat
X-WR-TIMEZONE:Europe/Madrid
DESCRIPTION:
URI:https://www.caldesdemontbui.cat/actualitat/agenda/escaldarium-2023-obertura-del-soparium-.html
CLASS:PUBLIC
END:VEVENT
END:VCALENDAR
