BEGIN:VCALENDAR
VERSION:2.0
CALSCALE:GREGORIAN
PRODID:-//Diputació de Barcelona//DibaCMS//EN
BEGIN:VEVENT
UID:25489
DTSTAMP:20260423T030159
DTSTART:20230708T180000
DTEND:20230708T180000
SUMMARY:Escaldàrium 2023: La Cultura amb l’Escaldàrium
LOCATION:
METHOD:PUBLISH
X-WR-CALNAME:caldesm@caldesdemontbui.cat
X-WR-TIMEZONE:Europe/Madrid
DESCRIPTION:
URI:https://www.caldesdemontbui.cat/actualitat/agenda/escaldarium-2023-la-cultura-amb-lescaldarium.html
CLASS:PUBLIC
END:VEVENT
END:VCALENDAR
