BEGIN:VCALENDAR
VERSION:2.0
CALSCALE:GREGORIAN
PRODID:-//Diputació de Barcelona//DibaCMS//EN
BEGIN:VEVENT
UID:25488
DTSTAMP:20260423T114951
DTSTART:20230708T120000
DTEND:20230708T140000
SUMMARY:Escaldàrium 2023: Vermut del foc i l’aigua amb PD Parguelas i dinar d’entrepans
LOCATION:
METHOD:PUBLISH
X-WR-CALNAME:caldesm@caldesdemontbui.cat
X-WR-TIMEZONE:Europe/Madrid
DESCRIPTION:
URI:https://www.caldesdemontbui.cat/actualitat/agenda/escaldarium-2023-vermut-del-foc-i-laigua-amb-pd-parguelas-i-dinar-dentrepans.html
CLASS:PUBLIC
END:VEVENT
END:VCALENDAR
