BEGIN:VCALENDAR
VERSION:2.0
CALSCALE:GREGORIAN
PRODID:-//Diputació de Barcelona//DibaCMS//EN
BEGIN:VEVENT
UID:25486
DTSTAMP:20260423T031115
DTSTART:20230707T235900
DTEND:20230707T235900
SUMMARY:Escaldàrium 2023: PD Txarnega + PD La Casqui
LOCATION:
METHOD:PUBLISH
X-WR-CALNAME:caldesm@caldesdemontbui.cat
X-WR-TIMEZONE:Europe/Madrid
DESCRIPTION:
URI:https://www.caldesdemontbui.cat/actualitat/agenda/escaldarium-2023-pd-txarnega--pd-la-casqui.html
CLASS:PUBLIC
END:VEVENT
END:VCALENDAR
