BEGIN:VCALENDAR
VERSION:2.0
CALSCALE:GREGORIAN
PRODID:-//Diputació de Barcelona//DibaCMS//EN
BEGIN:VEVENT
UID:25485
DTSTAMP:20260422T220209
DTSTART:20230707T223000
DTEND:20230707T223000
SUMMARY:Escaldàrium 2023: El Judici
LOCATION:
METHOD:PUBLISH
X-WR-CALNAME:caldesm@caldesdemontbui.cat
X-WR-TIMEZONE:Europe/Madrid
DESCRIPTION:
URI:https://www.caldesdemontbui.cat/actualitat/agenda/escaldarium-2023-el-judici.html
CLASS:PUBLIC
END:VEVENT
END:VCALENDAR
