BEGIN:VCALENDAR
VERSION:2.0
CALSCALE:GREGORIAN
PRODID:-//Diputació de Barcelona//DibaCMS//EN
BEGIN:VEVENT
UID:25484
DTSTAMP:20260423T045410
DTSTART:20230707T213000
DTEND:20230707T213000
SUMMARY:Escaldàrium 2023: Sardanes a la fresca
LOCATION:
METHOD:PUBLISH
X-WR-CALNAME:caldesm@caldesdemontbui.cat
X-WR-TIMEZONE:Europe/Madrid
DESCRIPTION:
URI:https://www.caldesdemontbui.cat/actualitat/agenda/escaldarium-2023-sardanes-a-la-fresca.html
CLASS:PUBLIC
END:VEVENT
END:VCALENDAR
