BEGIN:VCALENDAR
VERSION:2.0
CALSCALE:GREGORIAN
PRODID:-//Diputació de Barcelona//DibaCMS//EN
BEGIN:VEVENT
UID:25481
DTSTAMP:20260423T080749
DTSTART:20230701T220000
DTEND:20230701T220000
SUMMARY:Escaldàrium 2023: Templàrium
LOCATION:
METHOD:PUBLISH
X-WR-CALNAME:caldesm@caldesdemontbui.cat
X-WR-TIMEZONE:Europe/Madrid
DESCRIPTION:
URI:https://www.caldesdemontbui.cat/actualitat/agenda/escaldarium-2023-templarium.html
CLASS:PUBLIC
END:VEVENT
END:VCALENDAR
