BEGIN:VCALENDAR
VERSION:2.0
CALSCALE:GREGORIAN
PRODID:-//Diputació de Barcelona//DibaCMS//EN
BEGIN:VEVENT
UID:25480
DTSTAMP:20260423T132020
DTSTART:20230630T210000
DTEND:20230630T210000
SUMMARY:Escaldàrium 2023: Foc de camp
LOCATION:Parc de Can Rius 
METHOD:PUBLISH
X-WR-CALNAME:caldesm@caldesdemontbui.cat
X-WR-TIMEZONE:Europe/Madrid
DESCRIPTION:
URI:https://www.caldesdemontbui.cat/actualitat/agenda/escaldarium-2023-foc-de-camp.html
CLASS:PUBLIC
END:VEVENT
END:VCALENDAR
