BEGIN:VCALENDAR
VERSION:2.0
CALSCALE:GREGORIAN
PRODID:-//Diputació de Barcelona//DibaCMS//EN
BEGIN:VEVENT
UID:25479
DTSTAMP:20260423T045310
DTSTART:20230630T190000
DTEND:20230630T190000
SUMMARY:Inauguració de la Botiga de l’Escaldàrium i de l'exposició fotogràfica Escaldàrium 2022
LOCATION:Carrer del Forn, 8bis 08140 Caldes de Montbui
METHOD:PUBLISH
X-WR-CALNAME:caldesm@caldesdemontbui.cat
X-WR-TIMEZONE:Europe/Madrid
DESCRIPTION:
URI:https://www.caldesdemontbui.cat/actualitat/agenda/inauguracio-de-la-botiga-de-lescaldarium-i-de-lexposicio-fotografica-escaldarium-2022.html
CLASS:PUBLIC
END:VEVENT
END:VCALENDAR
