BEGIN:VCALENDAR
VERSION:2.0
CALSCALE:GREGORIAN
PRODID:-//Diputació de Barcelona//DibaCMS//EN
BEGIN:VEVENT
UID:25470
DTSTAMP:20260423T201115
DTSTART:20230629T190000
DTEND:20230629T190000
SUMMARY:La Jam del Centre
LOCATION: Corredossos de Baix, 9-11 (antic 1) 8140 Caldes de Montbui
METHOD:PUBLISH
X-WR-CALNAME:caldesm@caldesdemontbui.cat
X-WR-TIMEZONE:Europe/Madrid
DESCRIPTION:
URI:https://www.caldesdemontbui.cat/actualitat/agenda/25470-la-jam-del-centre.html
CLASS:PUBLIC
END:VEVENT
END:VCALENDAR
