BEGIN:VCALENDAR
VERSION:2.0
CALSCALE:GREGORIAN
PRODID:-//Diputació de Barcelona//DibaCMS//EN
BEGIN:VEVENT
UID:25466
DTSTAMP:20260423T133531
DTSTART:20230711T170000
DTEND:20230711T200000
SUMMARY:Taller “Descobreix els jocs de taula moderns en català”  
LOCATION:Santa Teresa, 3-5 08140 Caldes de Montbui
METHOD:PUBLISH
X-WR-CALNAME:caldesm@caldesdemontbui.cat
X-WR-TIMEZONE:Europe/Madrid
DESCRIPTION:
URI:https://www.caldesdemontbui.cat/actualitat/agenda/25466-taller-descobreix-els-jocs-de-taula-moderns-en-catala-.html
CLASS:PUBLIC
END:VEVENT
END:VCALENDAR
