BEGIN:VCALENDAR
VERSION:2.0
CALSCALE:GREGORIAN
PRODID:-//Diputació de Barcelona//DibaCMS//EN
BEGIN:VEVENT
UID:25463
DTSTAMP:20260423T101022
DTSTART:20230630T190000
DTEND:20230630T230000
SUMMARY:Show Drag Queen ‘L’espectacle Drag que ens farà bullir d’orgull!’ + Punxa Discos
LOCATION:Plaça de la Font del Lleó  
METHOD:PUBLISH
X-WR-CALNAME:caldesm@caldesdemontbui.cat
X-WR-TIMEZONE:Europe/Madrid
DESCRIPTION:
URI:https://www.caldesdemontbui.cat/actualitat/agenda/show-drag-queen-lespectacle-drag-que-ens-fara-bullir-dorgull--punxa-discos.html
CLASS:PUBLIC
END:VEVENT
END:VCALENDAR
