BEGIN:VCALENDAR
VERSION:2.0
CALSCALE:GREGORIAN
PRODID:-//Diputació de Barcelona//DibaCMS//EN
BEGIN:VEVENT
UID:25462
DTSTAMP:20260423T164709
DTSTART:20230628T110000
DTEND:20230628T130000
SUMMARY:Paradeta de Sensibilització LGBTI+ i personalització de xapes a la plaça de la Font del Lleó, a càrrec de Sida Studio
LOCATION:Plaça de la Font del Lleó 
METHOD:PUBLISH
X-WR-CALNAME:caldesm@caldesdemontbui.cat
X-WR-TIMEZONE:Europe/Madrid
DESCRIPTION:
URI:https://www.caldesdemontbui.cat/actualitat/agenda/paradeta-de-sensibilitzacio-lgbti-i-personalitzacio-de-xapes-a-la-placa-de-la-font-del-lleo-a-carrec-de-sida-studio.html
CLASS:PUBLIC
END:VEVENT
END:VCALENDAR
