BEGIN:VCALENDAR
VERSION:2.0
CALSCALE:GREGORIAN
PRODID:-//Diputació de Barcelona//DibaCMS//EN
BEGIN:VEVENT
UID:25459
DTSTAMP:20260423T030321
DTSTART:20230628T180000
DTEND:20230628T180000
SUMMARY:Recital de poesia i dansa: perles poètiques
LOCATION:Santa Teresa, 3-5 08140 Caldes de Montbui
METHOD:PUBLISH
X-WR-CALNAME:caldesm@caldesdemontbui.cat
X-WR-TIMEZONE:Europe/Madrid
DESCRIPTION:
URI:https://www.caldesdemontbui.cat/actualitat/agenda/recital-de-poesia-i-dansa-perles-poetiques.html
CLASS:PUBLIC
END:VEVENT
END:VCALENDAR
