BEGIN:VCALENDAR
VERSION:2.0
CALSCALE:GREGORIAN
PRODID:-//Diputació de Barcelona//DibaCMS//EN
BEGIN:VEVENT
UID:25455
DTSTAMP:20260423T042514
DTSTART:20230622T193000
DTEND:20230716T200000
SUMMARY:Exposició "Loser" d'Arles Gayo
LOCATION: Corredossos de Baix, 9-11 (antic 1) 8140 Caldes de Montbui
METHOD:PUBLISH
X-WR-CALNAME:caldesm@caldesdemontbui.cat
X-WR-TIMEZONE:Europe/Madrid
DESCRIPTION:
URI:https://www.caldesdemontbui.cat/actualitat/agenda/exposicio-loser-darles-gayo.html
CLASS:PUBLIC
END:VEVENT
END:VCALENDAR
