BEGIN:VCALENDAR
VERSION:2.0
CALSCALE:GREGORIAN
PRODID:-//Diputació de Barcelona//DibaCMS//EN
BEGIN:VEVENT
UID:25426
DTSTAMP:20260422T184235
DTSTART:20230619T180000
DTEND:20230619T180000
SUMMARY:Xerrada "El neurodesenvolupament. Com té lloc i com acompanyar els nostres infants"
LOCATION:C. Mestre Gregori Montserrat, 4 08140 Caldes de Montbui
METHOD:PUBLISH
X-WR-CALNAME:caldesm@caldesdemontbui.cat
X-WR-TIMEZONE:Europe/Madrid
DESCRIPTION:
URI:https://www.caldesdemontbui.cat/actualitat/agenda/xerrada-el-neurodesenvolupament-com-te-lloc-i-com-acompanyar-els-nostres-infants.html
CLASS:PUBLIC
END:VEVENT
END:VCALENDAR
